BEGIN:VCALENDAR
VERSION:2.0
PRODID:-//Canada&#039;s Placemaking Community - ECPv6.15.17.1//NONSGML v1.0//EN
CALSCALE:GREGORIAN
METHOD:PUBLISH
X-WR-CALNAME:Canada&#039;s Placemaking Community
X-ORIGINAL-URL:https://placemakingcommunity.ca
X-WR-CALDESC:Events for Canada&#039;s Placemaking Community
REFRESH-INTERVAL;VALUE=DURATION:PT1H
X-Robots-Tag:noindex
X-PUBLISHED-TTL:PT1H
BEGIN:VTIMEZONE
TZID:UTC
BEGIN:STANDARD
TZOFFSETFROM:+0000
TZOFFSETTO:+0000
TZNAME:UTC
DTSTART:20220101T000000
END:STANDARD
END:VTIMEZONE
BEGIN:VEVENT
DTSTART;TZID=UTC:20230905T110000
DTEND;TZID=UTC:20230905T120000
DTSTAMP:20260421T221115
CREATED:20230830T175348Z
LAST-MODIFIED:20230830T175348Z
UID:4972-1693911600-1693915200@placemakingcommunity.ca
SUMMARY:Cities for Everyone: The City We Want Barcelona
DESCRIPTION:Towards The City We Want\, BarcelonaGuest: \nXavier Matilla. City Architect & Planner\, Professor.\nBarcelona\, Spain \nTuesday\, September 5th\, 2023\n11:00 AM EST/5:00 PM CET \nAbout: \nXavier Matilla was Chief Architect of the city of Barcelona between October 2019 – June 2023. During this period\, he has directed many urban transformations with the aim of achieving a healthier\, friendlier and fairer city. Highlight being the “Barcelona Superblock” project\, internationally recognized as an effective strategy to transform city streets into spaces with better environmental quality and more l ABOUT his presentation: At a time when cities need new urban models to approach the future with optimism\, Barcelona has shown that it is possible to move towards a healthier\, kinder and fairer city for it citizens thanks to the Superilla Project. Barcelona is a compact and dense city\, with a polycentric urban model\, but it has a significant deficit of green areas and a problem with its car-centered mobility model. Car use takes up more than 50% of public space and is also the main source of atmospheric and noise pollution. Superilla aims to improve all the city’s streets\, while proposing a new\, more efficient mobility model through promoting public transport\, cycling and walking\, so that it takes up less room\, is healthier and pollutes less. This allows 1 out of every 3 streets to be freed up from through traffic\, and to transform them into new “green axes” in such a way that they “naturalise” the city and promote local activities and social relationships\, constituting a true environmental and social infrastructure\, a true systemic change. During the last 4 years Xavi Matilla has promoted the project\, defining a vision of the future for the whole city and at the same time executing a phase with 4 new green axes (4.65 Km / 10Ha) and 4 new squares (1Ha) that allow to demonstrate that it is possible to move towards the city we want. \nLearn more and register here!
URL:https://placemakingcommunity.ca/event/cities-for-everyone-the-city-we-want-barcelona/
LOCATION:Zoom (Registration Required)
CATEGORIES:Community Event,Virtual Events
END:VEVENT
END:VCALENDAR